BEGIN:VCALENDAR
VERSION:2.0
PRODID:spatie/icalendar-generator
DESCRIPTION:Events from Norman Sylvester
X-WR-CALDESC:Events from Norman Sylvester
REFRESH-INTERVAL;VALUE=DURATION:PT1440M
X-PUBLISHED-TTL:PT1440M
BEGIN:VTIMEZONE
TZID:Etc/GMT+0
BEGIN:STANDARD
DTSTART:20231213T183000Z
TZOFFSETFROM:+0000
TZOFFSETTO:+0000
END:STANDARD
END:VTIMEZONE
BEGIN:VTIMEZONE
TZID:UTC
BEGIN:STANDARD
DTSTART:20250726T102505Z
TZOFFSETFROM:+0000
TZOFFSETTO:+0000
END:STANDARD
END:VTIMEZONE
BEGIN:VEVENT
UID:43-39
DTSTAMP:20260422T102505Z
SUMMARY:American Plaza Picnic @ the Plaza Downtown
LOCATION:
ORGANIZER;CN=admin:MAILTO:admin@c3servicegroup.com
DTSTART;TZID=Etc/GMT+0:20240908T183000
DTEND;TZID=Etc/GMT+0:20240908T193000
X-ALT-DESC;FMTTYPE=TEXT/HTML:
CATEGORIES:General
URL;VALUE=URI:https://normansylvester.com/mc-events/american-plaza-picnic-t
 he-plaza-downtown/
METHOD:PUBLISH
END:VEVENT
END:VCALENDAR