BEGIN:VCALENDAR
VERSION:2.0
PRODID:spatie/icalendar-generator
DESCRIPTION:Events from Norman Sylvester
X-WR-CALDESC:Events from Norman Sylvester
REFRESH-INTERVAL;VALUE=DURATION:PT1440M
X-PUBLISHED-TTL:PT1440M
BEGIN:VTIMEZONE
TZID:Etc/GMT+0
BEGIN:STANDARD
DTSTART:20231105T000000Z
TZOFFSETFROM:+0000
TZOFFSETTO:+0000
END:STANDARD
END:VTIMEZONE
BEGIN:VTIMEZONE
TZID:UTC
BEGIN:STANDARD
DTSTART:20250730T011045Z
TZOFFSETFROM:+0000
TZOFFSETTO:+0000
END:STANDARD
END:VTIMEZONE
BEGIN:VEVENT
UID:45-41
DTSTAMP:20260426T011045Z
SUMMARY:Summer Free for All Concert Series - Unthank Park/ The Norman Sylve
 ster Band feat: Lenanne Miller  &amp;amp\; Peter Moss
LOCATION:
ORGANIZER;CN=Norman Sylvester:MAILTO:blueboog@msn.com
DTSTART;TZID=Etc/GMT+0;VALUE=DATE:20240801
DTEND;TZID=Etc/GMT+0;VALUE=DATE:20240802
X-ALT-DESC;FMTTYPE=TEXT/HTML:<p>Join us for family fun and Dancng in Denorv
 al Unthank City Park. Let do a Boise\, Eliot Humbolt reunion</p>\n
CATEGORIES:General
URL;VALUE=URI:https://normansylvester.com/mc-events/summer-free-for-all-con
 cert-series-unthank-park-the-norman-sylvester-band-feat-lenanne-miller-pet
 er-moss/
METHOD:PUBLISH
END:VEVENT
END:VCALENDAR